BEGIN:VCALENDAR
VERSION:2.0
PRODID:-//San Francisco IndieFest   - ECPv6.6.2//NONSGML v1.0//EN
CALSCALE:GREGORIAN
METHOD:PUBLISH
X-ORIGINAL-URL:https://sfindie.com
X-WR-CALDESC:Events for San Francisco IndieFest  
REFRESH-INTERVAL;VALUE=DURATION:PT1H
X-Robots-Tag:noindex
X-PUBLISHED-TTL:PT1H
BEGIN:VTIMEZONE
TZID:America/Los_Angeles
BEGIN:DAYLIGHT
TZOFFSETFROM:-0800
TZOFFSETTO:-0700
TZNAME:PDT
DTSTART:20180311T100000
END:DAYLIGHT
BEGIN:STANDARD
TZOFFSETFROM:-0700
TZOFFSETTO:-0800
TZNAME:PST
DTSTART:20181104T090000
END:STANDARD
END:VTIMEZONE
BEGIN:VEVENT
DTSTART;TZID=America/Los_Angeles:20180201T190000
DTEND;TZID=America/Los_Angeles:20180201T190000
DTSTAMP:20260420T053942
CREATED:20171220T235256Z
LAST-MODIFIED:20180122T183822Z
UID:4073-1517511600-1517511600@sfindie.com
SUMMARY:STUCK
DESCRIPTION:TICKETS for STUCK (includes after party) at Victoria Theater on Thu Feb 1\, 7p HERE\n  \nDirector Michael Berry – 2017 USA 90 min – Bay Area Premiere \n  \nThis year’s IndieFest Opening Night Program consists of two great music and dance films set in NYC. \nFirst\, we’re showing STUCK\, which was originally a hit live theater musical. Six New Yorkers are trapped in a stuck subway car and eventually beginning sharing stories about their lives through song. It’s a wonderful film about how everyone you pass on the street has their own intense stories and lives. \nPeople from all walks of life take public transportation\, especially the subway in New York City. When six strangers get stuck together on a stalled subway train one day\, they realize they have nothing to do but talk to each other while they wait for help. It isn’t long until the emotions of the trapped\, frustrated strangers explode as the subway car becomes a kind of magical\, musical\, conduit cell. A place where strangers reveal\, through song\, more of themselves than any of them ever could have imagined.   Thoughts\, lives\, and opinions change in the span of a couple of hours on this particular day and in this particular subway car. – Jeff Ross \nYour ticket to STUCK includes an open bar\, pizza from Paxti and DNA Pizza and a ticket to stay in the theater for the 2nd part of our NYC-Music-And-Dance program: Girl Walk // All Day!
URL:https://sfindie.com/fest/stuck/
LOCATION:Victoria Theater\, 2961 16th St\, San Francisco\, CA\, 94103
CATEGORIES:Feature Narrative
ATTACH;FMTTYPE=image/jpeg:https://sfindie.com/wp-content/uploads/2017/12/Stuck_-_still_1.jpg
END:VEVENT
BEGIN:VEVENT
DTSTART;TZID=America/Los_Angeles:20180201T210000
DTEND;TZID=America/Los_Angeles:20180201T210000
DTSTAMP:20260420T053942
CREATED:20171115T221743Z
LAST-MODIFIED:20180128T174148Z
UID:3906-1517518800-1517518800@sfindie.com
SUMMARY:GIRL WALK // ALL DAY
DESCRIPTION:TICKETS for Girl Walk//All Day (only) at Victoria Theater on Thu Feb 1\, 9p HERE\n  \nDirector Jacob Krupnick – 2011 USA 71 min – IndieFest 2012 \n  \nIf you are coming to our Opening Night Film STUCK plan to stick around for this show. Have a drink at the bar and some pizza from Paxti and DNA Pizza\, then prepare yourself for our retrospective re-screening of 2011’s GIRL WALK//ALL DAY\, a feature length dance movie set to Girl Talk’s ALL DAY album.  \nIf you can’t make it to STUCK\, you can just come to GIRL WALK.  And if you missed it when we showed it in Feb 2012\, you HAVE to catch it on the big screen this time. This is definitely a movie that will have you dancing the aisles! \nGirl Walk // All Day is an epic\, 71-minute dance music video set to All Day\, the new album by mash-up musician Girl Talk (aka Gregg Gillis). Girl Walk // All Day expands the boundaries around the idea of the traditional music video\, which usually spans the length of a single track. This album-length piece features a talented group of dancers across a range of public and private spaces around New York City\, turning the city’s sidewalks and obstacles into part of an evolving improvisational dance routine. \nThe Story: A young dancer finds herself bored with her ballet rehearsal. One day\, she impulsively quits\, then takes a ferry to the city. Feeling incredibly inspired by what she sees\, Anne dances her way across New York\, using the city as her stage. Throughout her journey\, she meets characters of all types\, including a series of like-minded dancers\, who’ll inspire new movements\, engage her in small battles\, and teach her to fear\, love\, laugh and live anew. From the ferry to museums\, subways\, ball games\, bridges\, bodegas\, graveyards\, flower shops\, and more\, Anne’s journey will bring her far and wide as the city explodes with dance! \n \nCo-presented by the SAN FRANCISCO DANCE FILM FESTIVAL \n  \n\n\nABOUT INDIEFEST – Year Fourteen \nDates: Feb 9-23\, 2012 \nVenue: Roxie Theater \nFeatures: 39. Shorts: 45. Parties: 8. Total Films: 84. Total Films To Date: 1130.  \nWith: Jeff Ross\, Kier-la Janisse\, Holly Roach\, Fay Dearborn\, Anna Feder\, Carl Elsaesser\, Catie Roads\, Caitlin Curtin\, Karen Larsen\, studio1500 \nSponsors: Grants for the Arts\, Bay Guardian\, Current\, East Bay Express\, sfstation.com\, Alice Radio\, Live 105\, Yelp\, FLAG Marketing\, Phoenix Hotel\, Haiyi Hotels\, Hotel Carlton\, Black Star Beer\, Blue Angel\, Gosling’s\, Ritual Coffee\, Barefoot Wine\, studio1500 \nNOTES: Last year doing parties at Cellspace. Catie Roads joins the staff! Girl Talk has ’em dancing in packed houses at both Public Works and the Roxie.
URL:https://sfindie.com/fest/girl-walk-all-day/
LOCATION:Victoria Theater\, 2961 16th St\, San Francisco\, CA\, 94103
CATEGORIES:20 Year Retrospective,Feature Narrative,Party
ATTACH;FMTTYPE=image/jpeg:https://sfindie.com/wp-content/uploads/2017/11/girlwalk.jpg
END:VEVENT
END:VCALENDAR