BEGIN:VCALENDAR
VERSION:2.0
PRODID:-//San Francisco IndieFest   - ECPv6.6.2//NONSGML v1.0//EN
CALSCALE:GREGORIAN
METHOD:PUBLISH
X-ORIGINAL-URL:https://sfindie.com
X-WR-CALDESC:Events for San Francisco IndieFest  
REFRESH-INTERVAL;VALUE=DURATION:PT1H
X-Robots-Tag:noindex
X-PUBLISHED-TTL:PT1H
BEGIN:VTIMEZONE
TZID:America/Los_Angeles
BEGIN:DAYLIGHT
TZOFFSETFROM:-0800
TZOFFSETTO:-0700
TZNAME:PDT
DTSTART:20180311T100000
END:DAYLIGHT
BEGIN:STANDARD
TZOFFSETFROM:-0700
TZOFFSETTO:-0800
TZNAME:PST
DTSTART:20181104T090000
END:STANDARD
END:VTIMEZONE
BEGIN:VEVENT
DTSTART;TZID=America/Los_Angeles:20180210T130000
DTEND;TZID=America/Los_Angeles:20180210T130000
DTSTAMP:20260422T031356
CREATED:20171115T223319Z
LAST-MODIFIED:20180117T062544Z
UID:3916-1518267600-1518267600@sfindie.com
SUMMARY:I AM A KNIFE WITH LEGS
DESCRIPTION:TICKETS for I AM A KNIFE WITH LEGS at 518 Val Sat Feb 10\, 1p HERE\n  \nDirector Bennet Jones – 2015 USA 90 min – IndieFest 2015 program note: \n  \nFirst his girlfriend dies in a suicide bombing. Then a fatwa is issued against him. And now international Europop star Bené’s eclair is weird. Seven years and hundreds of dollars in the making\, I Am a Knife With Legs is an underground cinema wonder. Utilizing random scribbled animation\, multiple Adobe After Effects freeware plug-ins and\, most importantly\, comedic timing of proportions rivaling Bené’s songwriting abilities\, it lacks anything resembling a dull moment— a rare occurrence when a film is this intentionally batshit weird. – Kier-la Janisse\, SF IndieFest \n  \n\n\nABOUT INDIEFEST Year Seventeen \nDates: Feb 5-19\, 2015 \nVenues: Brava\, Roxie\, Humanist Hall Oakland \nFeatures: 36  Shorts: 45  Parties: 6  Total Films: 81  Total Films To Date: 1377.  \nWith: Jeff Ross\, Mike Keegan\, Kier-la Janisse\, Jeff Giordano\, Chris Metzler\, Jay Wertzler\, Catie Roads\, Emily Hoover\, Nadja Mark\, Nina Ramos\, George Kaskanlian\, Sara Sherman\, Patricia Moran\, Karen Larsen\, studio1500 \nSponsors: Grants for the Arts\, SF Art Commission\, SF Weekly\, Tax Ninja\, Lagunitas\, Phoenix Hotel\, Hotel Kabuki\, Hotel Mark Twain\, Other Avenues\, sfstation.com\, Yelp\, Funcheap\, KQED\, Pusser’s Rum\, Tito’s Vodka\, Dark Horse Wine\, studio1500 \nNOTES: We try another pop up venue in Oakland. Kier-la’s last year. Mike Keegan joins the team for one year. Last hurrah attempt to bring back the Lebowski Party vibe from the old Cellspace events. Conspiracy of Beards performing at opening night at Brava was most successful attempt to have opening night party there after the film. KQED’s Film School Shorts comes on board as a sponsor.
URL:https://sfindie.com/fest/i-am-a-knife-with-legs/
LOCATION:CA
CATEGORIES:20 Year Retrospective,Feature Narrative
ATTACH;FMTTYPE=image/jpeg:https://sfindie.com/wp-content/uploads/2017/11/i_am_a_knife_with_legs_2014_2491.jpg
END:VEVENT
BEGIN:VEVENT
DTSTART;TZID=America/Los_Angeles:20180210T140000
DTEND;TZID=America/Los_Angeles:20180210T140000
DTSTAMP:20260422T031356
CREATED:20171228T144114Z
LAST-MODIFIED:20180117T032208Z
UID:4233-1518271200-1518271200@sfindie.com
SUMMARY:Shorts 3: The Best of Us
DESCRIPTION:Shorts 3: The Best of Us: Documentary Profiles \nFrom a kid boxer to an arborist prepping for the apocalypse\, these five unique people are making the most of their time. 87 min \nTICKETS for SHORTS 3 at Roxie Feb 7\, 7p HERE\nTICKETS for SHORTS 3 at Roxie Feb 10\, 2p HERE\n  \n \nBeyond the Plate: Eric Wolfinger \nAnton Lorimer\, USA\, 22 min \n“If you want to tell a human story\, the best place to start is at the table.”\nWatch as photographer Eric Wolfinger\, who’s been refered to as the Annie Leibovitz of food photography\, takes us on an incredible journey far beyond the kitchen’s reach to discover stories around the world while forging his own. \n  \nJesszilla \nEmily Sheskin\, USA\, 7 min \nJesselyn “Jesszilla” Silva is serious about boxing\, and at 10 years old trains seriously with dreams of becoming a professional fighter. Her father\, Pedro\, finds himself caught in between supporting her dream and worrying about her future as she tries to master a combat sport. \n  \n  \n  \n  \n  \n  \n  \n  \n  \nSeven Dates With Death \nMike Holland\, USA\, 11 min \nThe story of Moreese Bickham\, the oldest survivor of Death Row in the United States. Bickham describes why he was sent to Death Row\, his life on death row and how he was able to get out after almost four decades in prison. It is a story of grace\, redemption and forgiveness. \n  \nThe Tree Prophet \nChristian Schieder\, USA\, 29 min \nA poor and uneducated nursery man from Northern Michigan is sent back from heaven with a mission to save the world from global warming by cloning the worlds oldest and largest trees. \n  \n  \n \nThat’s My Boy \nAkhil Sathyan\, India\, 24 min \nThe successful and remarkable life of Sonu\, a trans activist from Kerala\, India \n  \n  \n  \n  \n  \n  \n 
URL:https://sfindie.com/fest/shorts-3-the-best-of-us-2/
LOCATION:Roxie Theater\, 3117 16th St\, San Francisco\, CA\, 94103
CATEGORIES:Shorts Program
ATTACH;FMTTYPE=image/jpeg:https://sfindie.com/wp-content/uploads/2017/12/Thatsmyboy-Stills-01.jpg
END:VEVENT
BEGIN:VEVENT
DTSTART;TZID=America/Los_Angeles:20180210T140000
DTEND;TZID=America/Los_Angeles:20180210T140000
DTSTAMP:20260422T031356
CREATED:20171229T125251Z
LAST-MODIFIED:20180124T194835Z
UID:4282-1518271200-1518271200@sfindie.com
SUMMARY:RAMEN HEADS
DESCRIPTION:TICKETS for RAMEN HEADS at Roxie Sat Feb 10\, 2p HERE\nTICKETS for RAMEN HEADS at Roxie Tue Feb 13\, 7p HERE\n  \nDirector Koki Shigeno  – 2017 Japan 93 min California Premiere – Food/Documentary \n  \nConsidered an edible embrace\, comforting ephemera and an art form by master chefs and legions of fans\, ramen—the perfectly slurpable combination of broth and noodles—inspires umami poetry. Japan’s reigning king of ramen\, Osamu Tomita\, takes us into his kitchen\, where he shares recipes\, trade secrets and flavor philosophies.  Ramen Heads is a mouthwatering survey of culinary history\, famous restaurants and specialty ingredients\, all the while making a compelling case for finding Japan’s heart through its stomach.  \n– Chris Metzler \nCO-PRESENTED BY THE CENTER FOR ASIAN AMERICAN MEDIA \n  \n\n\n 
URL:https://sfindie.com/fest/ramen-heads/
LOCATION:Roxie Theater\, 3117 16th St\, San Francisco\, CA\, 94103
CATEGORIES:Documentary
ATTACH;FMTTYPE=image/jpeg:https://sfindie.com/wp-content/uploads/2017/12/Ramen-Heads.jpg
END:VEVENT
BEGIN:VEVENT
DTSTART;TZID=America/Los_Angeles:20180210T150000
DTEND;TZID=America/Los_Angeles:20180210T150000
DTSTAMP:20260422T031356
CREATED:20171115T223041Z
LAST-MODIFIED:20180117T062729Z
UID:3912-1518274800-1518274800@sfindie.com
SUMMARY:HARMONY AND ME
DESCRIPTION:TICKETS for HARMONY AND ME at 518 Val Sat Feb 10\, 3p HERE\n  \nDiector Robert Byington – 2010 USA 75 min – IndieFest 2010 program note: \n  \nHarmony (a hilarious\, wry Jutin Rice) is a charmingly quirky slacker in the depths of a yearlong post-breakup funk that shows no signs of abating. The highlights of his days are “chance” run-ins with his ex. When one such excursion leads him to a nasty discovery\, he decides its time to move on\, but a disasterous date with his neighbor might not be the ticket. In what New York Magazine calls “a raucous\, highly musical comedy\,” director Robert Byington establishes himself as a unique\, irreverent and highly entertaining voice in contemporary cinema. – Anita Monga\, SF IndieFest \n  \n\n\nABOUT INDIEFEST Year Twelve \nDates: Jan 29-Feb 18\, 2010 \nVenues: Film: Roxie; Music: DNA Lounge\, Thee Parkside\, Bottom of the Hill \nFeatures: 28  Shorts: 37  Parties: 3  Bands: 43 Total Films: 65  Total Films To Date: 970.  \nWith: Jeff Ross\, Fay Dearborn\, Anita Monga\, Holly Roach\, Kier-la Janisse\, Ilya Tovis\, John Paulson\, Rick Abruzzo\, Tia Mignonne\, Caitlin Curtin\, Romany\, Karen Larsen\, studio1500 \nSponsors: Grants for the Arts\, Bay Guardian\, Live 105\, Blue Angel Vodka\, Hotel Carlton\, Clubcard Printing\, studio1500\, Trummer Pils\, goodhotel\, Phoenix Hotel\, Hostelling International\, KUSF\, b-side\, FLAG Marketing\, Sugarbowl\, Talking House Records \nNOTES: We add a week-long multi-venue music festival with over 40 excellent bands. We learn three week long festivals are exhausting.
URL:https://sfindie.com/fest/harmony-and-me/
LOCATION:518 Valencia Gallery\, 518 Valencia St\, San Francisco\, 94110
CATEGORIES:20 Year Retrospective,Feature Narrative
ATTACH;FMTTYPE=image/jpeg:https://sfindie.com/wp-content/uploads/2017/11/harmony.jpg
END:VEVENT
BEGIN:VEVENT
DTSTART;TZID=America/Los_Angeles:20180210T163000
DTEND;TZID=America/Los_Angeles:20180210T163000
DTSTAMP:20260422T031356
CREATED:20171228T150239Z
LAST-MODIFIED:20180117T032413Z
UID:4240-1518280200-1518280200@sfindie.com
SUMMARY:Shorts 5: The Hustle
DESCRIPTION:Shorts 5: The Hustle: Dark Comedy Shorts \nGive us your tired\, your jaded\, your sellouts\, and your characters making unintentionally hilarious career choices: this program finds the dark humor in “making it.” 84 min. Contains sex and violence.  \nTICKETS for SHORTS 5 at Roxie Feb 10\, 430p HERE\nTICKETS for SHORTS 5 at Roxie Feb 13\, 7p HERE\n  \nMeryl Fuckin Streep \nAva Bogle \nUSA\, 5 min \nFor two young screenwriters\, a movie pitch takes a turn into the surreal. \n  \n  \nJeffrey \nJosh Alward \nUK\, 14 min \nJeffrey is an exotic dancer who is in it for the art. But with art comes struggle\, courage and cleaning houses between gigs. \n  \n  \n  \n  \n  \n  \n  \n  \nLaurels \nDavid Brundige \nUSA\, 7 min \nFrench director Pauline Sala’s sophomore film hasn’t had the same success as her first\, and so her Los Angeles premiere falls to the fledgling L.A. Art Film Festival. To make matter worse\, she learns that a strange short film director is sharing her hotel room in order to save the festival money. However\, this strange woman has a secret that Pauline will soon learn\, and won’t ever forget. \n  \nFunemployement \nEmily Abt  \nUSA\, 12 min \nIsaac is a sucky babysitter in Brooklyn whose true passion is comedy. Unfortunately for him\, he’s not that talented and he’s a tiny bit of an asshole. When a tinder date brings a new hottie into his life\, things are looking up but not for long. Isaac fills in at his roommates’ improv group and not only bombs but also offends everyone in the room. Will Isaac get his shit together? Probably not but maybe he’s not such a bad babysitter after all. \n  \nValentina \nMary Molina \nUSA\, 9 min \nDuring the hottest day ever recorded in human history\, a fastidious maid’s duties are interrupted when her vagina comes to life. \n  \n  \n  \n  \n  \n  \n  \n  \nPastries \nGianluca Manzetti \nItaly\, 17 min \nAugosto\, a typically self-absorbed actor\, has a big audition coming up\, so he enlists his girlfriend Annalisa in his usual good-luck ritual. But this time things don’t go quite so auspiciously. \n  \nThe Poet and the Professor \nAriel Kavoussi \nUSA\, 22 min \nA dark comedic short about Ariel\, an insecure writer tortured by her own desires. Ariel can’t seem to stop seeing “The Poet\,” an older\, volatile cinematographer who pursues his “art” while taking full advantage of his rich girlfriend’s beautiful New York apartment. Ariel also can’t stop herself from loving her own professor\, a depressed\, married\, struggling adjunct obsessed with postmodernism and addicted to pills. In this short film\, Ariel must overcome a proclivity for dysfunctional affairs to find a healthier\, more sustainable relationship. \n  \n  \n  \n  \n  \n  \n  \n 
URL:https://sfindie.com/fest/shorts-5-the-hustle/
LOCATION:Roxie Theater\, 3117 16th St\, San Francisco\, CA\, 94103
CATEGORIES:Shorts Program
ATTACH;FMTTYPE=image/jpeg:https://sfindie.com/wp-content/uploads/2017/12/The-most-expensive-bottle-in-the-world.jpg
END:VEVENT
BEGIN:VEVENT
DTSTART;TZID=America/Los_Angeles:20180210T163000
DTEND;TZID=America/Los_Angeles:20180210T163000
DTSTAMP:20260422T031356
CREATED:20171229T130108Z
LAST-MODIFIED:20180117T062832Z
UID:4289-1518280200-1518280200@sfindie.com
SUMMARY:THE MANHATTAN FRONT
DESCRIPTION:TICKETS for THE MANHATTAN FRONT at Roxie Sat Feb 10\, 430p HERE\nTICKETS for THE MANHATTAN FRONT at Roxie Wed Feb 14 7p HERE\n  \nDirector Cathy Lee Crane – 2017 USA 89 min World Premiere – Drama / Musical / Historic \n  \nIn 1915\, a German saboteur comes to Manhattan and tries to co-opt the progressive labor movement push America into World War I. In this hybrid art film\, as history plays itself out between the staged and the archival\, fact and fiction unmask one another to tell a story of the corruption of America’s innocence. With music by the Bay Area’s fabulous Beth Custer. – Jennifer Junkyard Morris \n\n\nBoth screenings of The Manhattan Front will be preceded with live renditions of musical performances from the film led by the production’s San Francisco-based musicians. \n\n\n\n\nStarting at 4:00pm before the February 10 screening\, composer Beth Custer (clarinet\, bethcuster.com)\, will perform alongside Dave Scott (piano) and Scott Foster (guitar) from the Dave Len Scott Quartet (http://davelenscott.org). Before the February 14 screening\, starting at 6:30pm\, La Familia Pena-Govea (miguelgovea.com) will perform corridos and ballads for Valentine’s Day. \n\n\n  \nNoël Burch\, American film theorist: \nBack in the blessed seventies\, a goodly number of film-makers in Western Europe – mostly Britain but also Germany\, Belgium\, the Netherlands – working on the fringes of the Institution – which Christian Metz usefully defined as “meant to fill theatres\, not to empty them” – produced a sizable body of “experimental” but generally legible films deal- ing with history and radical politics. Alas\, like so much else from that era\, this tradition has been lost. Which is why I was enchanted to discover\, quite by accident\, the work of Cathy Lee Crane at a festival in Vienna some fifteen years ago. The Girl from Marseilles was an imaginary construction of what might have been the subjectivity of the “real Nadja” be- hind Breton’s fictional heroine\, both a critique of the Surrealist vision of women and a moving evocation of the écriture of the films of Man Ray\, Germaine Dulac. I have followed closely her development ever since: the evocations of the life of the French Catholic Marxist Simone Weil\, of Pasolini and his death… Fascinating films. But I had one reproach: why this obsession with Europe (my Europe!)\, why not look around you?  \nAnd after several years\, The Manhattan Front was her reply. It is undoubtedly her masterpiece. A shoe- string period movie was a challenge\, and Cathy met it with a maestria we can only salute. Her subject is complex\, an essential (tragic) episode in the history of the “American” left and a crucial moment in the progress of US women: set in Manhattan during WW1\, she evokes both the work of women in the munitions industry\, and the way the capitalist establishment used the war effort to destroy the most radical labor union your country has ever known\, the Industrial Workers of the World\, the “Wobblies”… This is a melodrama\, with German spies hiding bombs in cigars\, with German-American traitors… But Cathy’s approach to this complex material is resolutely experimental\, with brilliantly conceived visual metaphors and disconcerting juxtapositions. Which no doubt explains (along with the film’s unfashionable politics) the refusal from festivals around the world to program it. One can only congratulate the organizers of the San Francisco Independent Film Festival (a festival in the city of my birth) for their clairvoyance.  \nNoël Burch\nco-director with Alan Sekula on The Forgotten Space \nand with Thom Andersen on Red Hollywood\n15 December 2017 Paris\, France  \n\n 
URL:https://sfindie.com/fest/the-manhattan-front/
LOCATION:CA
CATEGORIES:Feature Narrative
ATTACH;FMTTYPE=image/jpeg:https://sfindie.com/wp-content/uploads/2017/12/Madame-Martha-Held-in-Cabaret-copy.jpg
END:VEVENT
BEGIN:VEVENT
DTSTART;TZID=America/Los_Angeles:20180210T170000
DTEND;TZID=America/Los_Angeles:20180210T170000
DTSTAMP:20260422T031356
CREATED:20171115T224835Z
LAST-MODIFIED:20180117T062907Z
UID:3933-1518282000-1518282000@sfindie.com
SUMMARY:KILL ME PLEASE
DESCRIPTION:TICKETS for KILL ME PLEASE at 518 Val Sat Feb 10\, 5p HERE\n  \nDirector Anita Rocha de Silveira – 2016 Brazil 101 min – IndieFest 2017 program note: \n  \nThe classic coming-of-age premise “You guys wanna go see a dead body?” from Stand By Me gets an update and twist as fifteen-year-old Bia becomes obsessed with a series of unsolved murders and the graveyard Facebook pages of the victims. Drawn into the world of darkness\, she finds more in common with the dead girls than her own group of friends.  Visually alluring\, it’s a refreshing\, unapologetic love letter to melancholic curiosity\, something every teen passes through. –Bears Fonte\, SF IndieFest \n \n\n\nABOUT INDIEFEST Year Nineteen \nDates: Feb 2-16\, 2017 \nVenues: Brava\, Roxie\, Alamo Drafthouse \nFeatures: 40  Shorts: 46  Parties: 8  Bands: 1 Total Films: 86  Total Films To Date: 1551.  \nWith: Jeff Ross\, Bears Fonte\, Chris Metzler\, Jon Gann\, Jennifer Junkyard Morris\, Joshua Moore\, Catie Roads\, Laureen Lulu Briggs\, Colin Johnson\, Nadja Mark\, Nina Ramos\, George Kaskanlian\, Robert Meyer\, Karen Larsen\, Fabian Falconett\, Mellissa Martin \nSponsors: Grants for the Arts\, Samuel Adams\, KQED\, sfstation.com\, Pusser’s Rum\, Distillery 209\, Tito’s Vodka\, Radio Valencia\, 107.7 the Bone\, KALX\, 48 Hills\, Tax Ninja\, Hotel Kabuki\, Bai\, Hotel Carlton\, goodhotel\, DoTheBay\, Hotel Rex\, Phoenix Hotel\, Hotel Metropolis\, Bawdy Caste\, SF Weekly\, Funcheap\, Brava Theater \nNOTES: We borrow Josh Moore from SFJFF and recruit short film pro Jon Gann to join the team. Lise Swenson tribute. The New Orleans style Second Line parade from Brava to the party is a blast. First Bingo show is a hit! The Firmament turn Fury Road into an art film with an amazing live electro soundtrack.
URL:https://sfindie.com/fest/kill-me-please/
LOCATION:CA
CATEGORIES:20 Year Retrospective,Feature Narrative
ATTACH;FMTTYPE=image/jpeg:https://sfindie.com/wp-content/uploads/2017/11/Kill-Me-Please-2.jpg
END:VEVENT
BEGIN:VEVENT
DTSTART;TZID=America/Los_Angeles:20180210T190000
DTEND;TZID=America/Los_Angeles:20180210T190000
DTSTAMP:20260422T031356
CREATED:20171219T201102Z
LAST-MODIFIED:20180131T013819Z
UID:4065-1518289200-1518289200@sfindie.com
SUMMARY:Screenwriters Panel and Live Read
DESCRIPTION:Live reading from this year’s award winning screenplays plus panel discussion with working writers: Tony Dushane\, Sarah Kass\, Bears Fonte\, James Carlson.\nLive Read Scripts: Grace & Vengeance by James Carlson (scenes from the feature script) and Sergio and the Whale by Anna Kriegel (short script in its entirety).\nComplimentary drinks and nibbles.\nSat Feb 10\, 7p\, Free\, all ages.\n  \nSCREENPLAY READ:\nSERGIO AND THE WHALE (short\, presented in its entirety) \nGRACE AND VENGEANCE (feature\, 10 minute scene) \nPERFORMERS: Siobhan Doherty\, Rasheed Custer\, Maura Halloran\, James Roop \n  \nPANELISTS:\nTony DuShane is the author and screenwriter of Confessions of a Teenage Jesus Jerk. He hosted the long running radio show Drinks with Tony that included celebrity guests like Chelsea Handler\, Steve Buscemi\, Nick Cave\, Hal Harley\, and hundreds more since 2002. He developed a TV series with Hunting Lane Films that never went to air. His journalism and essays have appeared in the San Francisco Chronicle\, Mother Jones\, Penthouse\, and The Los Angeles Times. He teaches novel writing at UCLA Extension. \nSarah Kass is a seasoned storyteller specializing in independent documentaries and non-fiction television. She began her career as a producer and director before focusing primarily on writing. She has crafted award-winning documentaries that have aired on PBS\, Discovery Channel\, and The History Channel. She is also a scriptwriter and story consultant for independent filmmakers. Her work has screened at international film festivals and on public television.  Sarah has written multiple short-form scripts for non-broadcast venues including 30 short films for the Canadian Museum for Human Rights. She is currently working on several projects: two films about the incarceration of Japanese-Americans during World War II for the National Park Service; an Independent feature length documentary about legendary psychoanalyst Carl Jung; and three short films profiling grassroots environmental activists for the 2018 Goldman Environmental Prize. \nBears Fonté is a filmmaker\, festival programmer\, and journalist. His feature thriller iCRIME\, which he wrote and directed\, was released on DVD\, VOD by Breaking Glass in 2011.  His short film\, Roadside Assistance\, was selected for 70 festivals including Fantasia International Film Festival and Dances With Films. He read screenplays and wrote coverage for agencies and producers in Hollywood for three years before working as the Screenplay Contest Assistant at Austin Film Festival.  After a few months he was promoted to Director of Programming for the film festival and founded Other Worlds Austin SciFi Film Festival after he left.  He has been programming for SF Indiefest since 2015. \nJames Carlson currently resides in Hollywood and graduated from California State University with a degree in Radio/TV/Film. His screenplay Grace and Vengeance is currently in development\, producer attached\, and received the following awards: GRAND PRIZE WINNER of the 2018 SF Indie Screenplay Competition; FINALIST – Hollywood Int’l Screenwriting Competition; OFFICIAL SELECTION – Los Angeles International Screenplay Awards.  James’ other feature scripts include The Contract\, and Child Proof; Shorts include The Ice Cream Truck\, The Bellhop\, and The Honest Psychic. James proudly refers to himself as a Certified Film Fanatic and recently founded Goliath Films International.
URL:https://sfindie.com/fest/screenwriters-panel-and-live-read/
LOCATION:518 Valencia Gallery\, 518 Valencia St\, San Francisco\, 94110
ATTACH;FMTTYPE=image/png:https://sfindie.com/wp-content/uploads/2017/12/EVENT_ReadingScreen_1920x1080.png
END:VEVENT
BEGIN:VEVENT
DTSTART;TZID=America/Los_Angeles:20180210T190000
DTEND;TZID=America/Los_Angeles:20180210T190000
DTSTAMP:20260422T031356
CREATED:20171229T130817Z
LAST-MODIFIED:20180206T165908Z
UID:4294-1518289200-1518289200@sfindie.com
SUMMARY:THE CALIFORNIA NO
DESCRIPTION:TICKETS for THE CALIFORNIA NO at Roxie Sat Feb 10\, 7p HERE\nTICKETS for THE CALIFORNIA NO at Roxie Mon Feb 12\, 915p HERE\n  \nDirector Ned Ehrbar – 2017 USA 84 min World Premiere – Comedy / Sexuality \n  \nDuring his first visit to couples therapy\, a Los Angeles writer discovers that he’s actually in an open marriage—or at least his wife is. The revelation sets off a series of events that upends his personal and professional life and forces him to reconsider everything about himself.  – Jennifer Junkyard Morris \nDirector Statement \nI didn’t invent the phrase “the California no\,” but I fell in love with it as soon as I heard it: The distinctly Angeleno method of rejecting someone by saying nothing at all — by ignoring emails\, not returning calls and simply waiting until the other person gets fed up or embarrassed enough to just leave it alone.  \nSimply put\, its guiding principle is conflict-avoidance\, something I’ve encountered plenty of in Los Angeles. So I’ve created a story where the conflict is created by characters trying way too hard to avoid conflict. A married couple discovers they’re on two very different pages about their relationship due to poor communication.  \nIt’s also a tongue-in-cheek indictment of straight white male entitlement. We’re following a hapless\, nearly useless beta-male as he makes terrible decision after terrible decision\, testing the patience of the diverse group of fully actualized adults around him. He expects a lot from the world with no good reason to.  \nMost of all\, for my first feature film I sought to present an authentic take on relationships and how people’s lives intersect\, for better or worse. I sincerely hope you enjoy it.   \n\n\n 
URL:https://sfindie.com/fest/the-california-no/
LOCATION:Roxie Theater\, 3117 16th St\, San Francisco\, CA\, 94103
CATEGORIES:Feature Narrative
ATTACH;FMTTYPE=image/jpeg:https://sfindie.com/wp-content/uploads/2017/12/CANo-still-05-Noah-Segan.jpg
END:VEVENT
BEGIN:VEVENT
DTSTART;TZID=America/Los_Angeles:20180210T190000
DTEND;TZID=America/Los_Angeles:20180210T190000
DTSTAMP:20260422T031356
CREATED:20171229T131646Z
LAST-MODIFIED:20180117T063052Z
UID:4299-1518289200-1518289200@sfindie.com
SUMMARY:FOR NOW
DESCRIPTION:TICKETS for FOR NOW at Roxie Sat Feb 10\, 7p HERE\nTICKETS for FOR NOW at Roxie Wed Feb 14\, 915p HERE\n  \nDirector Hannah Barlow – 2017 USA 79 min Bay Area Premiere – Comedy / Drama \n  \nHannah\, an Australian ex-pat living in Los Angeles\, organizes an audition at the San Francisco Ballet Company for her younger brother Connor\, a professional dancer based in Europe. Both siblings are still grieving the death of their beloved parents while trying to build a future for themselves\, continents apart. Hannah’s boyfriend Kane and her best friend Katherine join them on their road trip up the Californian coast\, bypassing many wondrous sun-soaked sights… as well as their self-respect.  \nFor Now is a look at twenty-somethings adrift in the limbo between adolescence and adulthood\, grappling with the superficial connections that define their generation. Shot on the road over seven days on a shoestring budget and with entirely improvised performances based closely on the actors that play them. For Now blurs the line between reality and fiction in an attempt to find meaning in the relationships of four individuals and the sense of loss that overshadows them.- Jennifer Junkyard Morris \n\n 
URL:https://sfindie.com/fest/for-now/
LOCATION:Roxie Theater\, 3117 16th St\, San Francisco\, CA\, 94103
CATEGORIES:Feature Narrative
ATTACH;FMTTYPE=image/jpeg:https://sfindie.com/wp-content/uploads/2017/12/Photo-1-Screen_Shot_2017-02-15_at_1.08.08_pm_copy.jpg
END:VEVENT
BEGIN:VEVENT
DTSTART;TZID=America/Los_Angeles:20180210T211500
DTEND;TZID=America/Los_Angeles:20180210T211500
DTSTAMP:20260422T031356
CREATED:20171229T132323Z
LAST-MODIFIED:20180117T063138Z
UID:4304-1518297300-1518297300@sfindie.com
SUMMARY:CONFESSIONS OF A TEENAGE JESUS JERK
DESCRIPTION:TICKETS for CONFESSIONS OF A TEENAGE JESUS JERK at Roxie Sat Feb 10\, 915p HERE\nTICKETS for CONFESSIONS OF A TEENAGE JESUS JERK at Roxie Thu Feb 15\, 7p HERE\n  \nDirector Eric Stoltz – 2017 USA 95 min Bay Area Premiere – Coming of Age/Comedy \n  \nActor Eric Stoltz’s feature film debut based on the book of the same name. San Francisco author Tony Dushane wrote a semi-autobiographical tale about coming of age during the Reagan years as a Jehovah’s Witness. His many humorous struggles with sexuality\, discovering Punk Rock and Charles Bukowski led to a most tragic and liberating implosion.  \n– Jeff Ross
URL:https://sfindie.com/fest/confessions-of-a-teenage-jesus-jerk/
LOCATION:Roxie Theater\, 3117 16th St\, San Francisco\, CA\, 94103
CATEGORIES:Feature Narrative
ATTACH;FMTTYPE=image/jpeg:https://sfindie.com/wp-content/uploads/2017/12/Confessions-of-a-Teenage-Jesus-Jerk-photo-credit-Buck-Lewis-pictured-Sasha-Feldman.jpg
END:VEVENT
BEGIN:VEVENT
DTSTART;TZID=America/Los_Angeles:20180210T211500
DTEND;TZID=America/Los_Angeles:20180210T211500
DTSTAMP:20260422T031356
CREATED:20171229T133014Z
LAST-MODIFIED:20180117T063214Z
UID:4309-1518297300-1518297300@sfindie.com
SUMMARY:MUSCLECAR
DESCRIPTION:TICKETS for MUSCLECAR at Roxie Sat Feb 10\, 915p HERE\n  \nDirector Dwayne Labbe – 2017 Australia 77 min North American Premiere – Ozploitation Horror/Midnight Movie \n  \nWhen Bambi blows her last cash on the car of her dreams\, she can’t afford to drive it… until the alcohol-rich blood of chauvinist men finds its way into her gas tank. With a little VooDoo and heart\, this hot young car lover has a ride worthy of her devotion. \nWhat is Ozploitation you may ask? After the R-rating as introduced in Australia in 1971\, the country embraced a style of filmmaking that can be described\, according to the Australian Film Institute as break-neck-action\, schlock-horror\, ocker comedy and frisky sex romps joined a uniquely antipodean wave in exploitation cinema. Musclecar continues that tradition. The premise is completely ridiculous. The characters are bold and over the top but loveable nonetheless. When I was looking for films for the fest this year\, I sort had a goal to find a film full of sex and death and craziness and I couldn’t have asked for a better combination. \n –Bears Fonte \nPlays with:  \n \nSPRING AFFAIR \nOberon Augarde\, USA\, 7 min \nTwo young women on a hunting trip discuss what it means to be a wet noodle.
URL:https://sfindie.com/fest/musclecar/
LOCATION:Roxie Theater\, 3117 16th St\, San Francisco\, CA\, 94103
CATEGORIES:Feature Narrative
ATTACH;FMTTYPE=image/jpeg:https://sfindie.com/wp-content/uploads/2017/12/muscle_car10.jpg
END:VEVENT
END:VCALENDAR