BEGIN:VCALENDAR
VERSION:2.0
PRODID:-//San Francisco IndieFest   - ECPv6.6.2//NONSGML v1.0//EN
CALSCALE:GREGORIAN
METHOD:PUBLISH
X-WR-CALNAME:San Francisco IndieFest  
X-ORIGINAL-URL:https://sfindie.com
X-WR-CALDESC:Events for San Francisco IndieFest  
REFRESH-INTERVAL;VALUE=DURATION:PT1H
X-Robots-Tag:noindex
X-PUBLISHED-TTL:PT1H
BEGIN:VTIMEZONE
TZID:America/Los_Angeles
BEGIN:DAYLIGHT
TZOFFSETFROM:-0800
TZOFFSETTO:-0700
TZNAME:PDT
DTSTART:20180311T100000
END:DAYLIGHT
BEGIN:STANDARD
TZOFFSETFROM:-0700
TZOFFSETTO:-0800
TZNAME:PST
DTSTART:20181104T090000
END:STANDARD
END:VTIMEZONE
BEGIN:VEVENT
DTSTART;TZID=America/Los_Angeles:20181110T130000
DTEND;TZID=America/Los_Angeles:20181110T130000
DTSTAMP:20260424T033147
CREATED:20181015T204108Z
LAST-MODIFIED:20181030T030704Z
UID:5842-1541854800-1541854800@sfindie.com
SUMMARY:Program 3: The Kids Are Alright?
DESCRIPTION:Program 3: The Kids Are Alright?\nGrowing\, learning\, adapting\, leading.\nSat Nov 10\, 1p\, 93 min \nTICKETS: https://drafthouse.com/sf/show/sf-indieshorts-the-kids-are-alright\n  \nCuldesac \nDylan Ashton \n2017\, US 15:46\, Local Filmmaker \nSydney and Kit\, two brothers separated after the destruction of their parents’ divorce\, once again have their world disarrayed when a threat is discovered in their high school’s bathroom. But when Sydney reveals his abrupt plan to ditch town that evening\, Kit realizes he will be forced to confront that world by himself. \n  \n  \n  \nDog Years \nTyler Russell \n2018\, US\, 4:44\, Filmmaker Attending \nAn old dog does what he can to shelter a little girl during her darkest moments. \n  \nFight \nDavid Lim \n2017\, Taiwan\, 15:30\, Filmmaker Attending \nAfter a teen and a then a man step in to help young Kenny as he’s being bullied by some other kids things spiral out of control. In silence they begin a strange journey of retaliation. \n  \nHeather Has Four Moms \nJeanette L. Buck  \n2018\, US/UK\, 14:08 \nWhen Heather decides to lose her virginity for her 15th birthday\, Mom’s wife must convince Mom\, and Mom’s ex\, and Mom’s ex’s partner that it’s time for Heather to have “the talk”. Which mom is ready to help Heather make a big decision? It’s a mother-daughter story. Times four.  \n  \nLucy in the Sky \nBertha Bay-Sa Pan \n2018\, US\, 11:00\, Filmmaker Attending \nFourteen year old Lucy Katz living with autism and adjusting to high school is suddenly faced with cataclysmic change when she and her identical twin sister become the subject of a genetic research study that could forever change Lucy. But is Lucy entitled to her own life or will she lose her identity and become just a medical experiment? \n  \nOnly Strangers Sleep In My Bed \nShane Bannon \n2018\, US\, 12:45\, Filmmaker Attending \nA conman works his way into a lonely woman’s home by posing as her long lost son. \n  \n  \n  \nShoebox \nMichael Killen \n2018\, US\, 13:00 \nOn a Pennsylvania farm in the 1980’s\, if an animal didn’t serve their purpose they did not survive. Five-year-old Beth\, the youngest in a large family\, struggles with the parallels to her own position\, so she makes it her mission to care for the weak. Based on the autobiographical book “Shoebox Funeral” by Elisabeth Voltz. \n  \nToo Many Bodies\n \nReena Dutt \n2018\, US\, 5:42\,  Filmmaker Attending \nToo Many Bodies is a music video for Alex Mackey’s “Place Called Us”\, addressing America’s need for gun reform through dance\, music and passion.
URL:https://sfindie.com/fest/program-3-the-kids-are-alright/
LOCATION:Alamo Drafthouse New Mission\, 2550 Mission Street\, San Francisco\, CA\, 94110
CATEGORIES:Shorts Program
ATTACH;FMTTYPE=image/jpeg:https://sfindie.com/wp-content/uploads/2018/10/THE-KIDS-ARE-ALRIGHT.jpg
END:VEVENT
BEGIN:VEVENT
DTSTART;TZID=America/Los_Angeles:20181110T153500
DTEND;TZID=America/Los_Angeles:20181110T153500
DTSTAMP:20260424T033147
CREATED:20181015T204300Z
LAST-MODIFIED:20190731T232213Z
UID:5845-1541864100-1541864100@sfindie.com
SUMMARY:Program 4: All in the Family
DESCRIPTION:Program 4: All in the Family\nThe family we’re born into\, and the family we make.\nSat Nov 10\, 335p\, 99 min \n\n4EVR \nSergio Pinheiro \n2017\, US\, 12:57\, Filmmaker Attending \nDealing with grief from the loss of her brother\, dark secrets resurface in unexpected ways upon Ginny’s arrival home. \n  \nA Life Passed \nRoland Greedy \n2018\, US\, 15:40\, Local Filmmaker \nThis short film is about the struggle of a man adapting to his new roles in his family and life\, through his handling of a tragedy. \n  \n  \n  \n  \n  \nÉchappé \nAllison Mattox \n2018\, US\, 12:45 \nWhile on tour in New York\, a Soviet ballerina learns of her brother’s plan to defect. \n  \n  \nFather \nImogen Hopper \n2017\, Australia\, 6:44 \nA man brutalised as a small child realises he is capable of the same brutality. \n  \nMauka to Makai \nJonah Okano\, Alika Maikau \n2018\, US\, 24:00\, Filmmaker Attending \nMauka to Makai offers an unfiltered window into a day in the lives of two cousins\, who\, while traveling from Kāneʻohe to Kailua\, grapple with their identity\, vices\, and the familial bonds that make and break them.  \n  \nThis is it for Me \nCourtney Hope Therond \n2018\, US\, 9:56\, Filmmaker Attending \nWhen an agent tells his girlfriend to quit acting\, things get… dramatic. This Is It For Me is a cautionary tale about dating within “the industry.” Trigger Warning: If you can relate in any way\, it’s gonna sting. Oh also the director got divorced in the 3 weeks it took to cut the footage together.  \n  \nWild Bred \nLuis Bolland \n2018\, Canada\, 16:28 \nA man who wants to escape from his life fakes his own death and gets dumped in the woods\, where he finds a cabin with a father and a daughter that are obsessed with nature and documentaries about chimpanzees.
URL:https://sfindie.com/fest/program-4-all-in-the-family/
LOCATION:Alamo Drafthouse New Mission\, 2550 Mission Street\, San Francisco\, CA\, 94110
CATEGORIES:Shorts Program
ATTACH;FMTTYPE=image/jpeg:https://sfindie.com/wp-content/uploads/2018/10/ALL-IN-THE-FAMILY.jpg
END:VEVENT
BEGIN:VEVENT
DTSTART;TZID=America/Los_Angeles:20181110T203000
DTEND;TZID=America/Los_Angeles:20181110T203000
DTSTAMP:20260424T033147
CREATED:20180828T164021Z
LAST-MODIFIED:20181015T205819Z
UID:5754-1541881800-1541881800@sfindie.com
SUMMARY:Bad Art Gallery S06E03
DESCRIPTION:A whole new collection of dumpster-dived art awaits at the November 2018 edition of MISSION B.A.G. (Bad Art Gallery).\nHilarious catalog notes for paintings curated from only the finest flea markets\, thrift stores and back alleys.\nPlease join us for complimentary beverages\, groovy music and bad art!\nA 21up event.\nFREE
URL:https://sfindie.com/fest/bad-art-gallery-s06e03/
LOCATION:518 Valencia Gallery\, 518 Valencia St\, San Francisco\, CA\, 94110
CATEGORIES:Party
ATTACH;FMTTYPE=image/jpeg:https://sfindie.com/wp-content/uploads/2018/08/20180823_155928.jpg
END:VEVENT
END:VCALENDAR